BEGIN:VCALENDAR
VERSION:2.0
PRODID:-//Geschwister-Scholl-Schule - ECPv6.15.20//NONSGML v1.0//EN
CALSCALE:GREGORIAN
METHOD:PUBLISH
X-WR-CALNAME:Geschwister-Scholl-Schule
X-ORIGINAL-URL:https://www.gss-wiesbaden.de
X-WR-CALDESC:Veranstaltungen für Geschwister-Scholl-Schule
REFRESH-INTERVAL;VALUE=DURATION:PT1H
X-Robots-Tag:noindex
X-PUBLISHED-TTL:PT1H
BEGIN:VTIMEZONE
TZID:Europe/Helsinki
BEGIN:DAYLIGHT
TZOFFSETFROM:+0200
TZOFFSETTO:+0300
TZNAME:EEST
DTSTART:20240331T010000
END:DAYLIGHT
BEGIN:STANDARD
TZOFFSETFROM:+0300
TZOFFSETTO:+0200
TZNAME:EET
DTSTART:20241027T010000
END:STANDARD
BEGIN:DAYLIGHT
TZOFFSETFROM:+0200
TZOFFSETTO:+0300
TZNAME:EEST
DTSTART:20250330T010000
END:DAYLIGHT
BEGIN:STANDARD
TZOFFSETFROM:+0300
TZOFFSETTO:+0200
TZNAME:EET
DTSTART:20251026T010000
END:STANDARD
BEGIN:DAYLIGHT
TZOFFSETFROM:+0200
TZOFFSETTO:+0300
TZNAME:EEST
DTSTART:20260329T010000
END:DAYLIGHT
BEGIN:STANDARD
TZOFFSETFROM:+0300
TZOFFSETTO:+0200
TZNAME:EET
DTSTART:20261025T010000
END:STANDARD
BEGIN:DAYLIGHT
TZOFFSETFROM:+0200
TZOFFSETTO:+0300
TZNAME:EEST
DTSTART:20270328T010000
END:DAYLIGHT
BEGIN:STANDARD
TZOFFSETFROM:+0300
TZOFFSETTO:+0200
TZNAME:EET
DTSTART:20271031T010000
END:STANDARD
END:VTIMEZONE
BEGIN:VEVENT
DTSTART;TZID=Europe/Helsinki:20260424T143000
DTEND;TZID=Europe/Helsinki:20260424T170000
DTSTAMP:20260425T232227
CREATED:20260330T142958Z
LAST-MODIFIED:20260330T142958Z
UID:2630-1777041000-1777050000@www.gss-wiesbaden.de
SUMMARY:Schulfest
DESCRIPTION:
URL:https://www.gss-wiesbaden.de/event/schulfest-3/
END:VEVENT
BEGIN:VEVENT
DTSTART;TZID=Europe/Helsinki:20260121T193000
DTEND;TZID=Europe/Helsinki:20260121T210000
DTSTAMP:20260425T232227
CREATED:20250917T133124Z
LAST-MODIFIED:20250917T133324Z
UID:2580-1769023800-1769029200@www.gss-wiesbaden.de
SUMMARY:Infoabend für Grundschuleltern an der Oranienschule
DESCRIPTION:
URL:https://www.gss-wiesbaden.de/event/infoabend-fuer-grundschuleltern-an-der-oranienschule/
END:VEVENT
BEGIN:VEVENT
DTSTART;TZID=Europe/Helsinki:20260120T190000
DTEND;TZID=Europe/Helsinki:20260120T203000
DTSTAMP:20260425T232227
CREATED:20251022T133859Z
LAST-MODIFIED:20251022T133859Z
UID:2591-1768935600-1768941000@www.gss-wiesbaden.de
SUMMARY:Informationsabend an der Theodor-Fliedner-Schule
DESCRIPTION:
URL:https://www.gss-wiesbaden.de/event/informationsabend-an-der-theodor-fliedner-schule-2/
END:VEVENT
BEGIN:VEVENT
DTSTART;TZID=Europe/Helsinki:20260117T100000
DTEND;TZID=Europe/Helsinki:20260117T130000
DTSTAMP:20260425T232227
CREATED:20251104T133420Z
LAST-MODIFIED:20251104T133426Z
UID:2617-1768644000-1768654800@www.gss-wiesbaden.de
SUMMARY:Tag der offenen Tür am Gymnasium am Mosbacher Berg
DESCRIPTION:
URL:https://www.gss-wiesbaden.de/event/tag-der-offenen-tuer-am-gymnasium-am-mosbacher-berg/
END:VEVENT
BEGIN:VEVENT
DTSTART;TZID=Europe/Helsinki:20251210T080000
DTEND;TZID=Europe/Helsinki:20251210T150000
DTSTAMP:20260425T232227
CREATED:20251102T150808Z
LAST-MODIFIED:20251102T150808Z
UID:2605-1765353600-1765378800@www.gss-wiesbaden.de
SUMMARY:Info-Tag an der IGS Rheingauviertel
DESCRIPTION:
URL:https://www.gss-wiesbaden.de/event/info-tag-an-der-igs-rheingauviertel/
END:VEVENT
BEGIN:VEVENT
DTSTART;TZID=Europe/Helsinki:20251206T120000
DTEND;TZID=Europe/Helsinki:20251206T140000
DTSTAMP:20260425T232227
CREATED:20251102T151234Z
LAST-MODIFIED:20251102T151234Z
UID:2613-1765022400-1765029600@www.gss-wiesbaden.de
SUMMARY:Info-Tag an der Daniel-Schule
DESCRIPTION:
URL:https://www.gss-wiesbaden.de/event/info-tag-an-der-daniel-schule/
END:VEVENT
BEGIN:VEVENT
DTSTART;TZID=Europe/Helsinki:20251206T090000
DTEND;TZID=Europe/Helsinki:20251206T120000
DTSTAMP:20260425T232227
CREATED:20251102T150417Z
LAST-MODIFIED:20251102T150417Z
UID:2597-1765011600-1765022400@www.gss-wiesbaden.de
SUMMARY:Info-Tag an der Helene-Lange-Schule
DESCRIPTION:
URL:https://www.gss-wiesbaden.de/event/info-tag-an-der-helene-lange-schule/
END:VEVENT
BEGIN:VEVENT
DTSTART;TZID=Europe/Helsinki:20251202T173000
DTEND;TZID=Europe/Helsinki:20251202T173000
DTSTAMP:20260425T232227
CREATED:20251022T134310Z
LAST-MODIFIED:20251022T134310Z
UID:2593-1764696600-1764696600@www.gss-wiesbaden.de
SUMMARY:Informationsabend an der Sophie-und-Hans-Scholl-Schule
DESCRIPTION:
URL:https://www.gss-wiesbaden.de/event/informationsabend-an-der-sophie-und-hans-scholl-schule/
END:VEVENT
BEGIN:VEVENT
DTSTART;TZID=Europe/Helsinki:20251201T190000
DTEND;TZID=Europe/Helsinki:20251201T190000
DTSTAMP:20260425T232227
CREATED:20251102T150616Z
LAST-MODIFIED:20251102T150616Z
UID:2601-1764615600-1764615600@www.gss-wiesbaden.de
SUMMARY:Info-Tag an der IGS Alexej von Jawlensky
DESCRIPTION:
URL:https://www.gss-wiesbaden.de/event/info-tag-an-der-igs-alexej-von-jawlensky/
END:VEVENT
BEGIN:VEVENT
DTSTART;TZID=Europe/Helsinki:20251201T190000
DTEND;TZID=Europe/Helsinki:20251201T190000
DTSTAMP:20260425T232227
CREATED:20250829T143255Z
LAST-MODIFIED:20250829T143255Z
UID:2566-1764615600-1764615600@www.gss-wiesbaden.de
SUMMARY:Infoabend neue 5. Klassen
DESCRIPTION:
URL:https://www.gss-wiesbaden.de/event/infoabend-neue-5-klassen/
END:VEVENT
BEGIN:VEVENT
DTSTART;TZID=Europe/Helsinki:20251129T140000
DTEND;TZID=Europe/Helsinki:20251129T170000
DTSTAMP:20260425T232227
CREATED:20251102T151137Z
LAST-MODIFIED:20251102T151143Z
UID:2611-1764424800-1764435600@www.gss-wiesbaden.de
SUMMARY:Info-Tag am Campus Klarenthal
DESCRIPTION:
URL:https://www.gss-wiesbaden.de/event/info-tag-am-campus-klarenthal/
END:VEVENT
BEGIN:VEVENT
DTSTART;TZID=Europe/Helsinki:20251129T100000
DTEND;TZID=Europe/Helsinki:20251129T130000
DTSTAMP:20260425T232227
CREATED:20251102T150720Z
LAST-MODIFIED:20251102T150720Z
UID:2603-1764410400-1764421200@www.gss-wiesbaden.de
SUMMARY:Info-Tag an der IGS Kastellstraße
DESCRIPTION:Info-Tag an der O
URL:https://www.gss-wiesbaden.de/event/info-tag-an-der-igs-kastellstrasse/
END:VEVENT
BEGIN:VEVENT
DTSTART;TZID=Europe/Helsinki:20251129T100000
DTEND;TZID=Europe/Helsinki:20251129T130000
DTSTAMP:20260425T232227
CREATED:20251102T150505Z
LAST-MODIFIED:20251102T150505Z
UID:2599-1764410400-1764421200@www.gss-wiesbaden.de
SUMMARY:Info-Tag an der Hermann-Ehlers-Schule
DESCRIPTION:
URL:https://www.gss-wiesbaden.de/event/info-tag-an-der-hermann-ehlers-schule/
END:VEVENT
BEGIN:VEVENT
DTSTART;TZID=Europe/Helsinki:20251129T100000
DTEND;TZID=Europe/Helsinki:20251129T120000
DTSTAMP:20260425T232227
CREATED:20250917T132707Z
LAST-MODIFIED:20250917T132707Z
UID:2576-1764410400-1764417600@www.gss-wiesbaden.de
SUMMARY:Tag der offenen Tür an der Werner-von-Siemens-Schule
DESCRIPTION:
URL:https://www.gss-wiesbaden.de/event/tag-der-offenen-tuer-an-der-werner-von-siemens-schule-2/
END:VEVENT
BEGIN:VEVENT
DTSTART;TZID=Europe/Helsinki:20251129T090000
DTEND;TZID=Europe/Helsinki:20251129T120000
DTSTAMP:20260425T232227
CREATED:20251104T133711Z
LAST-MODIFIED:20251104T133719Z
UID:2621-1764406800-1764417600@www.gss-wiesbaden.de
SUMMARY:Hospitationstag an der Diltheyschule
DESCRIPTION:
URL:https://www.gss-wiesbaden.de/event/hospitationstag-an-der-diltheyschule-2/
END:VEVENT
BEGIN:VEVENT
DTSTART;TZID=Europe/Helsinki:20251128T150000
DTEND;TZID=Europe/Helsinki:20251128T170000
DTSTAMP:20260425T232227
CREATED:20251102T150919Z
LAST-MODIFIED:20251102T150919Z
UID:2607-1764342000-1764349200@www.gss-wiesbaden.de
SUMMARY:Info-Tag an der Wilhelm-Heinrich-von-Riehl-Schule
DESCRIPTION:
URL:https://www.gss-wiesbaden.de/event/info-tag-an-der-wilhelm-heinrich-von-riehl-schule/
END:VEVENT
BEGIN:VEVENT
DTSTART;TZID=Europe/Helsinki:20251126T180000
DTEND;TZID=Europe/Helsinki:20251126T180000
DTSTAMP:20260425T232227
CREATED:20251114T152015Z
LAST-MODIFIED:20251114T152015Z
UID:2624-1764180000-1764180000@www.gss-wiesbaden.de
SUMMARY:Informationsabend an der Albrecht-Dürer-Schule
DESCRIPTION:
URL:https://www.gss-wiesbaden.de/event/informationsabend-an-der-albrecht-duerer-schule/
END:VEVENT
BEGIN:VEVENT
DTSTART;TZID=Europe/Helsinki:20251121T160000
DTEND;TZID=Europe/Helsinki:20251121T190000
DTSTAMP:20260425T232227
CREATED:20250829T143041Z
LAST-MODIFIED:20250829T143041Z
UID:2564-1763740800-1763751600@www.gss-wiesbaden.de
SUMMARY:Tag der offenen Tür IGS Jawlensky
DESCRIPTION:
URL:https://www.gss-wiesbaden.de/event/tag-der-offenen-tuer-igs-jawlensky/
END:VEVENT
BEGIN:VEVENT
DTSTART;TZID=Europe/Helsinki:20251120T190000
DTEND;TZID=Europe/Helsinki:20251120T190000
DTSTAMP:20260425T232227
CREATED:20251102T151027Z
LAST-MODIFIED:20251102T151036Z
UID:2609-1763665200-1763665200@www.gss-wiesbaden.de
SUMMARY:Info-Tag an der Wilhelm-Leuschner-Schule
DESCRIPTION:
URL:https://www.gss-wiesbaden.de/event/info-tag-an-der-wilhelm-leuschner-schule/
END:VEVENT
BEGIN:VEVENT
DTSTART;TZID=Europe/Helsinki:20251119T190000
DTEND;TZID=Europe/Helsinki:20251119T190000
DTSTAMP:20260425T232227
CREATED:20251104T133618Z
LAST-MODIFIED:20251104T133618Z
UID:2619-1763578800-1763578800@www.gss-wiesbaden.de
SUMMARY:Infoabend an der Diltheyschule
DESCRIPTION:
URL:https://www.gss-wiesbaden.de/event/infoabend-an-der-diltheyschule-2/
END:VEVENT
BEGIN:VEVENT
DTSTART;TZID=Europe/Helsinki:20251117T190000
DTEND;TZID=Europe/Helsinki:20251117T190000
DTSTAMP:20260425T232227
CREATED:20250917T132553Z
LAST-MODIFIED:20250917T132553Z
UID:2574-1763406000-1763406000@www.gss-wiesbaden.de
SUMMARY:Elterninformationsabend Werner-von-Siemens-Schule
DESCRIPTION:
URL:https://www.gss-wiesbaden.de/event/elterninformationsabend-werner-von-siemens-schule/
END:VEVENT
BEGIN:VEVENT
DTSTART;TZID=Europe/Helsinki:20251115T100000
DTEND;TZID=Europe/Helsinki:20251115T130000
DTSTAMP:20260425T232227
CREATED:20250917T132951Z
LAST-MODIFIED:20250917T132951Z
UID:2578-1763200800-1763211600@www.gss-wiesbaden.de
SUMMARY:Tag der offenen Tür an der Oranienschule
DESCRIPTION:
URL:https://www.gss-wiesbaden.de/event/tag-der-offenen-tuer-an-der-oranienschule-2/
END:VEVENT
BEGIN:VEVENT
DTSTART;TZID=Europe/Helsinki:20251115T100000
DTEND;TZID=Europe/Helsinki:20251115T120000
DTSTAMP:20260425T232227
CREATED:20250829T142843Z
LAST-MODIFIED:20250829T142843Z
UID:2562-1763200800-1763208000@www.gss-wiesbaden.de
SUMMARY:Integrierte Gesamtschulen- Markt der Möglichkeiten
DESCRIPTION:
URL:https://www.gss-wiesbaden.de/event/integrierte-gesamtschulen-markt-der-moeglichkeiten/
LOCATION:Wiesbadener Rathaus
END:VEVENT
BEGIN:VEVENT
DTSTART;TZID=Europe/Helsinki:20251113T190000
DTEND;TZID=Europe/Helsinki:20251113T213000
DTSTAMP:20260425T232227
CREATED:20251104T133305Z
LAST-MODIFIED:20251104T133319Z
UID:2615-1763060400-1763069400@www.gss-wiesbaden.de
SUMMARY:Informationsabend am Gymnasium am Mosbacher Berg
DESCRIPTION:
URL:https://www.gss-wiesbaden.de/event/informationsabend-am-gymnasium-am-mosbacher-berg/
END:VEVENT
BEGIN:VEVENT
DTSTART;TZID=Europe/Helsinki:20251108T100000
DTEND;TZID=Europe/Helsinki:20251108T130000
DTSTAMP:20260425T232227
CREATED:20251022T132823Z
LAST-MODIFIED:20251022T132823Z
UID:2589-1762596000-1762606800@www.gss-wiesbaden.de
SUMMARY:Tag der offenen Tür an der Theodor-Fliedner-Schule
DESCRIPTION:
URL:https://www.gss-wiesbaden.de/event/tag-der-offenen-tuer-an-der-theodor-fliedner-schule-3/
END:VEVENT
BEGIN:VEVENT
DTSTART;TZID=Europe/Helsinki:20251104T180000
DTEND;TZID=Europe/Helsinki:20251104T180000
DTSTAMP:20260425T232227
CREATED:20251022T132612Z
LAST-MODIFIED:20251022T132612Z
UID:2587-1762279200-1762279200@www.gss-wiesbaden.de
SUMMARY:Informationsveranstaltung weiterführende Schulen
DESCRIPTION:
URL:https://www.gss-wiesbaden.de/event/informationsveranstaltung-weiterfuehrende-schulen/
LOCATION:Aula der Geschwister-Scholl-Schule
END:VEVENT
BEGIN:VEVENT
DTSTART;TZID=Europe/Helsinki:20250929T093000
DTEND;TZID=Europe/Helsinki:20250929T093000
DTSTAMP:20260425T232227
CREATED:20250829T150804Z
LAST-MODIFIED:20250829T150804Z
UID:2568-1759138200-1759138200@www.gss-wiesbaden.de
SUMMARY:Info-Tag der Humboldt-Schule
DESCRIPTION:
URL:https://www.gss-wiesbaden.de/event/info-tag-der-humboldt-schule/
END:VEVENT
BEGIN:VEVENT
DTSTART;TZID=Europe/Helsinki:20250819T113000
DTEND;TZID=Europe/Helsinki:20250819T113000
DTSTAMP:20260425T232227
CREATED:20250721T121821Z
LAST-MODIFIED:20250721T121821Z
UID:2556-1755603000-1755603000@www.gss-wiesbaden.de
SUMMARY:Einschulungsfeier (Klasse 1c\, 1d\, 1e)
DESCRIPTION:
URL:https://www.gss-wiesbaden.de/event/einschulungsfeier-klasse-1c-1d-1e/
LOCATION:Turnhalle GSS
END:VEVENT
BEGIN:VEVENT
DTSTART;TZID=Europe/Helsinki:20250819T100000
DTEND;TZID=Europe/Helsinki:20250819T100000
DTSTAMP:20260425T232227
CREATED:20250721T121646Z
LAST-MODIFIED:20250721T121646Z
UID:2554-1755597600-1755597600@www.gss-wiesbaden.de
SUMMARY:Einschulungsfeier (Vorklasse\, 1a\, 1b)
DESCRIPTION:
URL:https://www.gss-wiesbaden.de/event/einschulungsfeier-vorklasse-1a-1b/
LOCATION:Turnhalle GSS
END:VEVENT
BEGIN:VEVENT
DTSTART;TZID=Europe/Helsinki:20250425T150000
DTEND;TZID=Europe/Helsinki:20250425T170000
DTSTAMP:20260425T232227
CREATED:20250304T104547Z
LAST-MODIFIED:20250304T104547Z
UID:2535-1745593200-1745600400@www.gss-wiesbaden.de
SUMMARY:Abschluss Projektwoche
DESCRIPTION:
URL:https://www.gss-wiesbaden.de/event/abschluss-projektwoche/
END:VEVENT
END:VCALENDAR